BEGIN:VCALENDAR
VERSION:2.0
PRODID:-//Strange Games Festival - ECPv6.15.20//NONSGML v1.0//EN
CALSCALE:GREGORIAN
METHOD:PUBLISH
X-WR-CALNAME:Strange Games Festival
X-ORIGINAL-URL:https://strangegamesfestival.co.uk
X-WR-CALDESC:Events for Strange Games Festival
REFRESH-INTERVAL;VALUE=DURATION:PT1H
X-Robots-Tag:noindex
X-PUBLISHED-TTL:PT1H
BEGIN:VTIMEZONE
TZID:Europe/London
BEGIN:DAYLIGHT
TZOFFSETFROM:+0000
TZOFFSETTO:+0100
TZNAME:BST
DTSTART:20210328T010000
END:DAYLIGHT
BEGIN:STANDARD
TZOFFSETFROM:+0100
TZOFFSETTO:+0000
TZNAME:GMT
DTSTART:20211031T010000
END:STANDARD
BEGIN:DAYLIGHT
TZOFFSETFROM:+0000
TZOFFSETTO:+0100
TZNAME:BST
DTSTART:20220327T010000
END:DAYLIGHT
BEGIN:STANDARD
TZOFFSETFROM:+0100
TZOFFSETTO:+0000
TZNAME:GMT
DTSTART:20221030T010000
END:STANDARD
BEGIN:DAYLIGHT
TZOFFSETFROM:+0000
TZOFFSETTO:+0100
TZNAME:BST
DTSTART:20230326T010000
END:DAYLIGHT
BEGIN:STANDARD
TZOFFSETFROM:+0100
TZOFFSETTO:+0000
TZNAME:GMT
DTSTART:20231029T010000
END:STANDARD
BEGIN:DAYLIGHT
TZOFFSETFROM:+0000
TZOFFSETTO:+0100
TZNAME:BST
DTSTART:20240331T010000
END:DAYLIGHT
BEGIN:STANDARD
TZOFFSETFROM:+0100
TZOFFSETTO:+0000
TZNAME:GMT
DTSTART:20241027T010000
END:STANDARD
BEGIN:DAYLIGHT
TZOFFSETFROM:+0000
TZOFFSETTO:+0100
TZNAME:BST
DTSTART:20250330T010000
END:DAYLIGHT
BEGIN:STANDARD
TZOFFSETFROM:+0100
TZOFFSETTO:+0000
TZNAME:GMT
DTSTART:20251026T010000
END:STANDARD
BEGIN:DAYLIGHT
TZOFFSETFROM:+0000
TZOFFSETTO:+0100
TZNAME:BST
DTSTART:20260329T010000
END:DAYLIGHT
BEGIN:STANDARD
TZOFFSETFROM:+0100
TZOFFSETTO:+0000
TZNAME:GMT
DTSTART:20261025T010000
END:STANDARD
END:VTIMEZONE
BEGIN:VEVENT
DTSTART;TZID=Europe/London:20250824T210000
DTEND;TZID=Europe/London:20250824T220000
DTSTAMP:20260420T144558
CREATED:20250703T203449Z
LAST-MODIFIED:20250704T083705Z
UID:10000581-1756069200-1756072800@strangegamesfestival.co.uk
SUMMARY:Campfire Storytelling with Jon
DESCRIPTION:Huddle close in the firelight for more tales of wonder! Age-old myths and brand-new yarns\, from far afield and right on the doorstep: Jon is a Brighton-based storyteller with a captivating delivery and love of stories that connect past\, present and future\, our surroundings and ourselves. He performs regularly around the country in clubs\, schools\, online\, and at festivals including the Brighton Festival Our Place programme and Fringe. \nPraise for past gigs:\n“This is wildly ambitious exuberant storytelling” – Brighton Source\n“our boys became totally engrossed… fantastic” – Into the Trees Festival\n“great tales told with obvious love. It was an enthralling evening.” – Audience member\, The Mabinogion
URL:https://strangegamesfestival.co.uk/event/campfire-storytelling-with-jon-6/2025-08-24
LOCATION:Main Campfire
CATEGORIES:Open Events for Everyone,Sign-Up Not Required
GEO:50.860864;0.237457
END:VEVENT
BEGIN:VEVENT
DTSTART;TZID=Europe/London:20250823T210000
DTEND;TZID=Europe/London:20250823T220000
DTSTAMP:20260420T144558
CREATED:20250703T203449Z
LAST-MODIFIED:20250704T083705Z
UID:10000580-1755982800-1755986400@strangegamesfestival.co.uk
SUMMARY:Campfire Storytelling with Jon
DESCRIPTION:Huddle close in the firelight for more tales of wonder! Age-old myths and brand-new yarns\, from far afield and right on the doorstep: Jon is a Brighton-based storyteller with a captivating delivery and love of stories that connect past\, present and future\, our surroundings and ourselves. He performs regularly around the country in clubs\, schools\, online\, and at festivals including the Brighton Festival Our Place programme and Fringe. \nPraise for past gigs:\n“This is wildly ambitious exuberant storytelling” – Brighton Source\n“our boys became totally engrossed… fantastic” – Into the Trees Festival\n“great tales told with obvious love. It was an enthralling evening.” – Audience member\, The Mabinogion
URL:https://strangegamesfestival.co.uk/event/campfire-storytelling-with-jon-6/2025-08-23
LOCATION:Main Campfire
CATEGORIES:Open Events for Everyone,Sign-Up Not Required
GEO:50.860864;0.237457
END:VEVENT
BEGIN:VEVENT
DTSTART;TZID=Europe/London:20250822T210000
DTEND;TZID=Europe/London:20250822T220000
DTSTAMP:20260420T144558
CREATED:20250703T203449Z
LAST-MODIFIED:20250704T083705Z
UID:10000579-1755896400-1755900000@strangegamesfestival.co.uk
SUMMARY:Campfire Storytelling with Jon
DESCRIPTION:Huddle close in the firelight for more tales of wonder! Age-old myths and brand-new yarns\, from far afield and right on the doorstep: Jon is a Brighton-based storyteller with a captivating delivery and love of stories that connect past\, present and future\, our surroundings and ourselves. He performs regularly around the country in clubs\, schools\, online\, and at festivals including the Brighton Festival Our Place programme and Fringe. \nPraise for past gigs:\n“This is wildly ambitious exuberant storytelling” – Brighton Source\n“our boys became totally engrossed… fantastic” – Into the Trees Festival\n“great tales told with obvious love. It was an enthralling evening.” – Audience member\, The Mabinogion
URL:https://strangegamesfestival.co.uk/event/campfire-storytelling-with-jon-6/2025-08-22
LOCATION:Main Campfire
CATEGORIES:Open Events for Everyone,Sign-Up Not Required
GEO:50.860864;0.237457
END:VEVENT
BEGIN:VEVENT
DTSTART;TZID=Europe/London:20240825T210000
DTEND;TZID=Europe/London:20240825T220000
DTSTAMP:20260420T144558
CREATED:20240603T212553Z
LAST-MODIFIED:20240606T081730Z
UID:10000415-1724619600-1724623200@strangegamesfestival.co.uk
SUMMARY:Campfire Storytelling with Jon
DESCRIPTION:Ever wondered how the hills were made? Where the sun goes at night? Who built that empty house on the edge of town? Let Jon show you…! Jon is a Brighton-based storyteller known for his captivating delivery and love of roots: folktales and myths that connect our history and our present\, our surroundings and ourselves. He performs regularly at festivals\, in schools\, online\, and his shows have appeared in the Brighton Festival Our Place programme and Fringe. \nPraise for past gigs:\n“You really brought those stories to life… I want to go and visit those places now!” – Guesthouse Storytellers\, Newhaven\n“our boys became totally engrossed… fantastic” – Into the Trees Festival\n“great tales told with obvious love. It was an enthralling evening.” – Audience member\, The Mabinogion
URL:https://strangegamesfestival.co.uk/event/campfire-storytelling-with-jon-5/2024-08-25
LOCATION:Main Campfire
CATEGORIES:Open Events for Everyone,Sign-Up Not Required
GEO:50.860864;0.237457
END:VEVENT
BEGIN:VEVENT
DTSTART;TZID=Europe/London:20240824T210000
DTEND;TZID=Europe/London:20240824T220000
DTSTAMP:20260420T144558
CREATED:20240603T212553Z
LAST-MODIFIED:20240606T081730Z
UID:10000414-1724533200-1724536800@strangegamesfestival.co.uk
SUMMARY:Campfire Storytelling with Jon
DESCRIPTION:Ever wondered how the hills were made? Where the sun goes at night? Who built that empty house on the edge of town? Let Jon show you…! Jon is a Brighton-based storyteller known for his captivating delivery and love of roots: folktales and myths that connect our history and our present\, our surroundings and ourselves. He performs regularly at festivals\, in schools\, online\, and his shows have appeared in the Brighton Festival Our Place programme and Fringe. \nPraise for past gigs:\n“You really brought those stories to life… I want to go and visit those places now!” – Guesthouse Storytellers\, Newhaven\n“our boys became totally engrossed… fantastic” – Into the Trees Festival\n“great tales told with obvious love. It was an enthralling evening.” – Audience member\, The Mabinogion
URL:https://strangegamesfestival.co.uk/event/campfire-storytelling-with-jon-5/2024-08-24
LOCATION:Main Campfire
CATEGORIES:Open Events for Everyone,Sign-Up Not Required
GEO:50.860864;0.237457
END:VEVENT
BEGIN:VEVENT
DTSTART;TZID=Europe/London:20240823T210000
DTEND;TZID=Europe/London:20240823T220000
DTSTAMP:20260420T144558
CREATED:20240603T212553Z
LAST-MODIFIED:20240606T081730Z
UID:10000413-1724446800-1724450400@strangegamesfestival.co.uk
SUMMARY:Campfire Storytelling with Jon
DESCRIPTION:Ever wondered how the hills were made? Where the sun goes at night? Who built that empty house on the edge of town? Let Jon show you…! Jon is a Brighton-based storyteller known for his captivating delivery and love of roots: folktales and myths that connect our history and our present\, our surroundings and ourselves. He performs regularly at festivals\, in schools\, online\, and his shows have appeared in the Brighton Festival Our Place programme and Fringe. \nPraise for past gigs:\n“You really brought those stories to life… I want to go and visit those places now!” – Guesthouse Storytellers\, Newhaven\n“our boys became totally engrossed… fantastic” – Into the Trees Festival\n“great tales told with obvious love. It was an enthralling evening.” – Audience member\, The Mabinogion
URL:https://strangegamesfestival.co.uk/event/campfire-storytelling-with-jon-5/2024-08-23
LOCATION:Main Campfire
CATEGORIES:Open Events for Everyone,Sign-Up Not Required
GEO:50.860864;0.237457
END:VEVENT
BEGIN:VEVENT
DTSTART;TZID=Europe/London:20230827T211500
DTEND;TZID=Europe/London:20230827T221500
DTSTAMP:20260420T144558
CREATED:20230708T185248Z
LAST-MODIFIED:20230713T174559Z
UID:10000329-1693170900-1693174500@strangegamesfestival.co.uk
SUMMARY:Campfire Storytelling with Jon
DESCRIPTION:Ever wondered how the hills were made? Where the sun goes at night? Who built that empty house on the edge of town? Let Jon show you…! Jon is a Brighton-based storyteller known for his captivating delivery and love of roots: folktales and myths that connect our history and our present\, our surroundings and ourselves. He performs regularly at festivals\, in schools\, online\, and his shows have appeared in the Brighton Festival Our Place programme and Fringe. \nPraise for past gigs: \n“You really brought those stories to life… I want to go and visit those places now!” – Guesthouse Storytellers\, Newhaven \n“our boys became totally engrossed… fantastic” – Into the Trees Festival \n“great tales told with obvious love. It was an enthralling evening.” – Audience member\, The Mabinogion
URL:https://strangegamesfestival.co.uk/event/campfire-storytelling-with-jon-4/2023-08-27
LOCATION:Main Campfire
CATEGORIES:Open Events for Everyone,Sign-Up Not Required
GEO:50.860864;0.237457
END:VEVENT
BEGIN:VEVENT
DTSTART;TZID=Europe/London:20230826T211500
DTEND;TZID=Europe/London:20230826T221500
DTSTAMP:20260420T144558
CREATED:20230708T185248Z
LAST-MODIFIED:20230713T174559Z
UID:10000328-1693084500-1693088100@strangegamesfestival.co.uk
SUMMARY:Campfire Storytelling with Jon
DESCRIPTION:Ever wondered how the hills were made? Where the sun goes at night? Who built that empty house on the edge of town? Let Jon show you…! Jon is a Brighton-based storyteller known for his captivating delivery and love of roots: folktales and myths that connect our history and our present\, our surroundings and ourselves. He performs regularly at festivals\, in schools\, online\, and his shows have appeared in the Brighton Festival Our Place programme and Fringe. \nPraise for past gigs: \n“You really brought those stories to life… I want to go and visit those places now!” – Guesthouse Storytellers\, Newhaven \n“our boys became totally engrossed… fantastic” – Into the Trees Festival \n“great tales told with obvious love. It was an enthralling evening.” – Audience member\, The Mabinogion
URL:https://strangegamesfestival.co.uk/event/campfire-storytelling-with-jon-4/2023-08-26
LOCATION:Main Campfire
CATEGORIES:Open Events for Everyone,Sign-Up Not Required
GEO:50.860864;0.237457
END:VEVENT
BEGIN:VEVENT
DTSTART;TZID=Europe/London:20230825T211500
DTEND;TZID=Europe/London:20230825T221500
DTSTAMP:20260420T144558
CREATED:20230708T185248Z
LAST-MODIFIED:20230713T174559Z
UID:10000327-1692998100-1693001700@strangegamesfestival.co.uk
SUMMARY:Campfire Storytelling with Jon
DESCRIPTION:Ever wondered how the hills were made? Where the sun goes at night? Who built that empty house on the edge of town? Let Jon show you…! Jon is a Brighton-based storyteller known for his captivating delivery and love of roots: folktales and myths that connect our history and our present\, our surroundings and ourselves. He performs regularly at festivals\, in schools\, online\, and his shows have appeared in the Brighton Festival Our Place programme and Fringe. \nPraise for past gigs: \n“You really brought those stories to life… I want to go and visit those places now!” – Guesthouse Storytellers\, Newhaven \n“our boys became totally engrossed… fantastic” – Into the Trees Festival \n“great tales told with obvious love. It was an enthralling evening.” – Audience member\, The Mabinogion
URL:https://strangegamesfestival.co.uk/event/campfire-storytelling-with-jon-4/2023-08-25
LOCATION:Main Campfire
CATEGORIES:Open Events for Everyone,Sign-Up Not Required
GEO:50.860864;0.237457
END:VEVENT
BEGIN:VEVENT
DTSTART;TZID=Europe/London:20220828T210000
DTEND;TZID=Europe/London:20220828T214000
DTSTAMP:20260420T144558
CREATED:20220805T103012Z
LAST-MODIFIED:20220810T145700Z
UID:10000200-1661720400-1661722800@strangegamesfestival.co.uk
SUMMARY:Campfire Storytelling with Jon
DESCRIPTION:Ever wondered how the hills were made? Where the sun goes at night? Who built that empty house on the edge of town? Let Jon show you…! Jon is a Brighton-based storyteller known for his captivating delivery and love of roots: folktales and myths that connect our history and our present\, our surroundings and ourselves. He performs regularly at festivals\, in schools\, online\, and his shows have appeared in the Brighton Festival Our Place programme and Fringe. \nPraise for past gigs: \n“You really brought those stories to life… I want to go and visit those places now!” – Guesthouse Storytellers\, Newhaven \n“our boys became totally engrossed… fantastic” – Into the Trees Festival \n“great tales told with obvious love. It was an enthralling evening.” – Audience member\, The Mabinogion
URL:https://strangegamesfestival.co.uk/event/campfire-storytelling-with-jon-3
LOCATION:Main Campfire
CATEGORIES:Open Events for Everyone,Sign-Up Not Required
GEO:50.860864;0.237457
END:VEVENT
BEGIN:VEVENT
DTSTART;TZID=Europe/London:20220827T210000
DTEND;TZID=Europe/London:20220827T214000
DTSTAMP:20260420T144558
CREATED:20220805T102930Z
LAST-MODIFIED:20220810T145657Z
UID:10000199-1661634000-1661636400@strangegamesfestival.co.uk
SUMMARY:Campfire Storytelling with Jon
DESCRIPTION:Ever wondered how the hills were made? Where the sun goes at night? Who built that empty house on the edge of town? Let Jon show you…! Jon is a Brighton-based storyteller known for his captivating delivery and love of roots: folktales and myths that connect our history and our present\, our surroundings and ourselves. He performs regularly at festivals\, in schools\, online\, and his shows have appeared in the Brighton Festival Our Place programme and Fringe. \nPraise for past gigs: \n“You really brought those stories to life… I want to go and visit those places now!” – Guesthouse Storytellers\, Newhaven \n“our boys became totally engrossed… fantastic” – Into the Trees Festival \n“great tales told with obvious love. It was an enthralling evening.” – Audience member\, The Mabinogion
URL:https://strangegamesfestival.co.uk/event/campfire-storytelling-with-jon-2
LOCATION:Main Campfire
CATEGORIES:Open Events for Everyone,Sign-Up Not Required
GEO:50.860864;0.237457
END:VEVENT
BEGIN:VEVENT
DTSTART;TZID=Europe/London:20220826T210000
DTEND;TZID=Europe/London:20220826T214000
DTSTAMP:20260420T144558
CREATED:20220805T102845Z
LAST-MODIFIED:20220810T145654Z
UID:10000198-1661547600-1661550000@strangegamesfestival.co.uk
SUMMARY:Campfire Storytelling with Jon
DESCRIPTION:Ever wondered how the hills were made? Where the sun goes at night? Who built that empty house on the edge of town? Let Jon show you…! Jon is a Brighton-based storyteller known for his captivating delivery and love of roots: folktales and myths that connect our history and our present\, our surroundings and ourselves. He performs regularly at festivals\, in schools\, online\, and his shows have appeared in the Brighton Festival Our Place programme and Fringe. \nPraise for past gigs: \n“You really brought those stories to life… I want to go and visit those places now!” – Guesthouse Storytellers\, Newhaven \n“our boys became totally engrossed… fantastic” – Into the Trees Festival \n“great tales told with obvious love. It was an enthralling evening.” – Audience member\, The Mabinogion
URL:https://strangegamesfestival.co.uk/event/campfire-storytelling-with-jon
LOCATION:Main Campfire
CATEGORIES:Open Events for Everyone,Sign-Up Not Required
GEO:50.860864;0.237457
END:VEVENT
END:VCALENDAR