BEGIN:VCALENDAR
VERSION:2.0
PRODID:-//Strange Games Festival - ECPv6.15.20//NONSGML v1.0//EN
CALSCALE:GREGORIAN
METHOD:PUBLISH
X-ORIGINAL-URL:https://strangegamesfestival.co.uk
X-WR-CALDESC:Events for Strange Games Festival
REFRESH-INTERVAL;VALUE=DURATION:PT1H
X-Robots-Tag:noindex
X-PUBLISHED-TTL:PT1H
BEGIN:VTIMEZONE
TZID:Europe/London
BEGIN:DAYLIGHT
TZOFFSETFROM:+0000
TZOFFSETTO:+0100
TZNAME:BST
DTSTART:20240331T010000
END:DAYLIGHT
BEGIN:STANDARD
TZOFFSETFROM:+0100
TZOFFSETTO:+0000
TZNAME:GMT
DTSTART:20241027T010000
END:STANDARD
BEGIN:DAYLIGHT
TZOFFSETFROM:+0000
TZOFFSETTO:+0100
TZNAME:BST
DTSTART:20250330T010000
END:DAYLIGHT
BEGIN:STANDARD
TZOFFSETFROM:+0100
TZOFFSETTO:+0000
TZNAME:GMT
DTSTART:20251026T010000
END:STANDARD
BEGIN:DAYLIGHT
TZOFFSETFROM:+0000
TZOFFSETTO:+0100
TZNAME:BST
DTSTART:20260329T010000
END:DAYLIGHT
BEGIN:STANDARD
TZOFFSETFROM:+0100
TZOFFSETTO:+0000
TZNAME:GMT
DTSTART:20261025T010000
END:STANDARD
END:VTIMEZONE
BEGIN:VEVENT
DTSTART;TZID=Europe/London:20250824T110000
DTEND;TZID=Europe/London:20250824T180000
DTSTAMP:20260420T131611
CREATED:20250705T150551Z
LAST-MODIFIED:20250705T150946Z
UID:10000650-1756033200-1756058400@strangegamesfestival.co.uk
SUMMARY:Puzzle Party!
DESCRIPTION:Puzzle Party Games will be hosting FREE to play Escape Rooms all day (11am-6pm)\, come and find us at the Helvellyn Marquee \nThere are a variety of Escape Rooms and themes to try\, with a range of difficulties. We will also have a range of stand alone puzzles ranging from simple to fiendish and some Wooden Games. \nIf demand dictates\, we could even run a little demo and tear down to show the process of designing and building an Escape room\, Maybe 3pm? \n  \nFor more information check out the website here: www.puzzleparty.games \n  \n. \n 
URL:https://strangegamesfestival.co.uk/event/puzzle-party
LOCATION:Helvellyn Marquee
CATEGORIES:Board Game or Other Games,Sign-Up Not Required
GEO:50.860514;0.23985
END:VEVENT
END:VCALENDAR