BEGIN:VCALENDAR
VERSION:2.0
PRODID:-//Strange Games Festival - ECPv6.15.20//NONSGML v1.0//EN
CALSCALE:GREGORIAN
METHOD:PUBLISH
X-ORIGINAL-URL:https://strangegamesfestival.co.uk
X-WR-CALDESC:Events for Strange Games Festival
REFRESH-INTERVAL;VALUE=DURATION:PT1H
X-Robots-Tag:noindex
X-PUBLISHED-TTL:PT1H
BEGIN:VTIMEZONE
TZID:Europe/London
BEGIN:DAYLIGHT
TZOFFSETFROM:+0000
TZOFFSETTO:+0100
TZNAME:BST
DTSTART:20210328T010000
END:DAYLIGHT
BEGIN:STANDARD
TZOFFSETFROM:+0100
TZOFFSETTO:+0000
TZNAME:GMT
DTSTART:20211031T010000
END:STANDARD
BEGIN:DAYLIGHT
TZOFFSETFROM:+0000
TZOFFSETTO:+0100
TZNAME:BST
DTSTART:20220327T010000
END:DAYLIGHT
BEGIN:STANDARD
TZOFFSETFROM:+0100
TZOFFSETTO:+0000
TZNAME:GMT
DTSTART:20221030T010000
END:STANDARD
BEGIN:DAYLIGHT
TZOFFSETFROM:+0000
TZOFFSETTO:+0100
TZNAME:BST
DTSTART:20230326T010000
END:DAYLIGHT
BEGIN:STANDARD
TZOFFSETFROM:+0100
TZOFFSETTO:+0000
TZNAME:GMT
DTSTART:20231029T010000
END:STANDARD
BEGIN:DAYLIGHT
TZOFFSETFROM:+0000
TZOFFSETTO:+0100
TZNAME:BST
DTSTART:20240331T010000
END:DAYLIGHT
BEGIN:STANDARD
TZOFFSETFROM:+0100
TZOFFSETTO:+0000
TZNAME:GMT
DTSTART:20241027T010000
END:STANDARD
END:VTIMEZONE
BEGIN:VEVENT
DTSTART;TZID=Europe/London:20230827T153000
DTEND;TZID=Europe/London:20230827T213000
DTSTAMP:20260421T153945
CREATED:20230801T154808Z
LAST-MODIFIED:20230802T091834Z
UID:10000334-1693150200-1693171800@strangegamesfestival.co.uk
SUMMARY:The Secrets of the Black Library (D&D 5e)
DESCRIPTION:The Tower Looms before you\, its Cold Iron walls absorbing what little light filters through the mist. The ancient gates long barred and sealed now stand agape as though the structure itself was waiting for you. This Dungeons and Dragons 5th Edition One shot will take players on a journey of discovery down the perilous halls of the Black Library. Will you be able to uncover the Tower’s hidden secrets? Or are you doomed to die amid the Forbidden tomes. \n  \n4-6h\, 4-6 players \nUnder 18s should be accompanied by a responsible adult
URL:https://strangegamesfestival.co.uk/event/dd-5e
LOCATION:Birches1 (S)
CATEGORIES:Role-Playing Game,Sign-Up Not Required
GEO:50.860244;0.239252
END:VEVENT
BEGIN:VEVENT
DTSTART;TZID=Europe/London:20230827T123000
DTEND;TZID=Europe/London:20230827T153000
DTSTAMP:20260421T153945
CREATED:20230703T223456Z
LAST-MODIFIED:20230824T141754Z
UID:10000251-1693139400-1693150200@strangegamesfestival.co.uk
SUMMARY:Frostgrave
DESCRIPTION:A one-off Frostgrave scenario! All participating players can bring their own warband (even if it’s currently running in another campaign) and I’ll run a scenario involving treasure\, a Big Bad Boss and some other very exciting features. Using a custom experience table\, this turn-limited session will have interesting goals and challenges which will invite creative thinking to your play\, with the winner winning the most XP (and a prize for the trouble!) \n  \nPlayers familiar with the game with their own warband only \nAdults only \n[6 spaces available]
URL:https://strangegamesfestival.co.uk/event/frostgrave
LOCATION:Birches1 (S)
CATEGORIES:Big Games,Board Game or Other Games,Early Sign-Up Required
GEO:50.860244;0.239252
END:VEVENT
BEGIN:VEVENT
DTSTART;TZID=Europe/London:20230826T100000
DTEND;TZID=Europe/London:20230826T150000
DTSTAMP:20260421T153945
CREATED:20230708T171006Z
LAST-MODIFIED:20230819T082910Z
UID:10000274-1693044000-1693062000@strangegamesfestival.co.uk
SUMMARY:D&D
DESCRIPTION:This one-shot is both beginner friendly and welcoming to more experienced players. We’ve had lots of success before at strange games and though we don’t yet know whether players are going to be swashbuckling pirates\, underdark delving adventurers\, or heroic protectors against a growing evil\, we do know that it’ll be fun for everyone rolling dice at the table. \n  \nUnder 18s should be accompanied by a responsible adult \n[6 spaces available]
URL:https://strangegamesfestival.co.uk/event/dd-game-1
LOCATION:Birches1 (S)
CATEGORIES:Early Sign-Up Required,Role-Playing Game
GEO:50.860244;0.239252
END:VEVENT
BEGIN:VEVENT
DTSTART;TZID=Europe/London:20220828T150000
DTEND;TZID=Europe/London:20220828T200000
DTSTAMP:20260421T153945
CREATED:20220711T214338Z
LAST-MODIFIED:20220824T153917Z
UID:10000125-1661698800-1661716800@strangegamesfestival.co.uk
SUMMARY:D&D 5e One-Shot\, Advanced (Game 2)
DESCRIPTION:Come join us in the Birches\, dice in hand\, as we go on an adventure in 5e D&D. Assume the role of an adventurer in a classic D&D one-shot and hopefully try your hand at a game you haven’t played much before or that you love so much you’ll play it every chance you get. This “advanced” game is aimed for people that have played TTRPGs before and are very used to the style of gaming\, you may not have played 5e but you’re not confused by the term TTRPG or wondering if you need to put on a funny accent or strange robes to take part. \n[5 available spaces] Under-18s must be accompanied. Estimated 3-5h long \n 
URL:https://strangegamesfestival.co.uk/event/dd-5e-one-shot-advanced-2
LOCATION:Birches1 (S)
CATEGORIES:Role-Playing Game,Sign-Up Required
GEO:50.860244;0.239252
END:VEVENT
BEGIN:VEVENT
DTSTART;TZID=Europe/London:20220828T100000
DTEND;TZID=Europe/London:20220828T150000
DTSTAMP:20260421T153945
CREATED:20220711T213804Z
LAST-MODIFIED:20220824T154333Z
UID:10000123-1661680800-1661698800@strangegamesfestival.co.uk
SUMMARY:D&D 5e One-Shot\, Beginners (Game 2)
DESCRIPTION:Come join us in the Birches as we go on an adventure down the Long Road. Dungeons and Dragons 5th edition is the most recent version of the most popular and well known table top RPGs\, easy to pick up and hard to put down. Come roll the dice as you take control of an adventurer in a short one shot that will introduce you to D&D\, and hopefully see you leaving with plenty of well earned treasure. If you’ve played before feel free to join in too\, but be a patient soul as this game is for people that may not have played any TTRPGs before and might just be dipping their toes into the waters of RPG shenanigans for the first time.\n[5 available spaces] Under-18s must be accompanied. Estimated 3-5h long
URL:https://strangegamesfestival.co.uk/event/dd-5e-one-shot-beginners-2
LOCATION:Birches1 (S)
CATEGORIES:Role-Playing Game,Sign-Up Required
GEO:50.860244;0.239252
END:VEVENT
BEGIN:VEVENT
DTSTART;TZID=Europe/London:20220827T153000
DTEND;TZID=Europe/London:20220827T183000
DTSTAMP:20260421T153945
CREATED:20220804T115258Z
LAST-MODIFIED:20220824T155216Z
UID:10000194-1661614200-1661625000@strangegamesfestival.co.uk
SUMMARY:Scythe
DESCRIPTION:Full 7-player session of the board game Scythe \nPreferably players should have played Scythe before but the organiser is happy to teach and can do a dummy game beforehand (please email laura@strangegamesfestival.co.uk if this needs arranging)
URL:https://strangegamesfestival.co.uk/event/scythe
LOCATION:Birches1 (S)
CATEGORIES:Board Game or Other Games,Sign-Up Advisable
GEO:50.860244;0.239252
END:VEVENT
BEGIN:VEVENT
DTSTART;TZID=Europe/London:20220827T100000
DTEND;TZID=Europe/London:20220827T150000
DTSTAMP:20260421T153945
CREATED:20220726T090659Z
LAST-MODIFIED:20220824T155724Z
UID:10000181-1661594400-1661612400@strangegamesfestival.co.uk
SUMMARY:Gangs of Oolvanvar\, A Heist Tale\, DnD
DESCRIPTION:This is a heist adventure. As such it can be played with a party that fully consists of thieves. However if things go awry the respective skills of a Warrior(Deathbringer)\, Grimscribe or Plague doctor will be in high demand. This adventure rewards intelligent\, cautious\, clever play but the inverse is often just as much fun. You are the elite thieves\, thugs and specialists of a gang in Oolvanvar\, Oolvanvar has many fences infamous for greed and cunning\, and Boss Ogo is no exception. Ogo does a brisk trade in stolen goods and has the protection of a rival gang of thugs and bravos. For the past month no one has seen or heard from Ogo. The jeweler’s doors and windows are barred and no smoke escapes from his chimney. Like ravens circling a sink carcass\, the local bravos and second floor window men smell a fortune for the taking. You and your gang of course have decided to cross Boss Ogo \, break in\, dodge his possible traps\, get the goods and make it out alive.\nDuration of the game 3-5 hours \nContent warning: Body horror\, Cosmic horror\, Spiders\nX card will be in use \nThe system: Deathbringer/Dungeon crawl classics \nDeathbringer is a rules light version of the world’s most popular roleplaying game and plays very similar to DnD 5e or other retro clones of DnD. The game does have some differences which I think will make it a lot of fun for a one shot\, highlights are deathbringer dice which are dice that allow you to roll a D6 to increase a D20 roll or do D6 extra damage or a D6 to reduce damage. \nSpells do not have slots but use a roll over system and the higher you roll the more potent the spell\, for this we will be using DCC (dungeon crawl classics) spell tables for. For more information please feel free to message me or check out this video Deathbringer RPG Walkthrough (Ep. 265) \nCharacters start at level 4\nDEATHBRINGER Hit Dice: d10. Use any armor or weapons. Spend a Deathbringer Die to make one extra attack. Second attack at 5 th level. To start: doublet\, shield\, 2 weapons\nGRIMSCRIBE Hit Dice= d6. Cannot wear armor. No spell slots. Roll to cast\, DC 10. On a roll of Natural 1 gain 1 Corruption and roll on the Miscast Table. Gains spells by finding scrolls\, spell books\, or by having a friendly higher-level magic user teach them to you. You are a living grimoire\, must tattoo all spells on your skin. To Start: first level spells and 2 second level\, dagger.\nSCOUNDREL Hit Dice= d8. Light armor only. Advantage when attempting stealth\, climbing\, listening\, lockpicking\, searching\, etc. +4 to hit and double damage from behind. To Start: leather jacket\, club or dagger\, thieves’ tools\, rope\, grappling hook\, lucky charm.\nPLAGUE DOCTOR Hit Dice= d6. Leather armor only. Cure Wounds once per patient per day\, Cure Disease & Cure Poison 1x per day. Create d4 potions a day (1) acid splash (2) sleep (3) poison spray (4) bomb [d10] (5) healing [d6] (6) hallucinations To Start: Leather beak mask and coat\, meat cleaver\, medical kit\, very suspicious diploma \nAbout Me: My name is Matt\, i’ve been playing and mainly GMing RPG’s since the 80’s. I run a couple of games a week at the moment for a London club London Rpg Community but these games generally run online at the moment. \n[5 available spaces] Under-18s must be accompanied
URL:https://strangegamesfestival.co.uk/event/gangs-of-oolvanvar
LOCATION:Birches1 (S)
CATEGORIES:Role-Playing Game,Sign-Up Required
GEO:50.860244;0.239252
END:VEVENT
END:VCALENDAR